BEGIN:VCALENDAR
VERSION:2.0
PRODID:-//Race Ohio MX - ECPv6.15.14//NONSGML v1.0//EN
CALSCALE:GREGORIAN
METHOD:PUBLISH
X-WR-CALNAME:Race Ohio MX
X-ORIGINAL-URL:https://raceohiomx.com
X-WR-CALDESC:Events for Race Ohio MX
REFRESH-INTERVAL;VALUE=DURATION:PT1H
X-Robots-Tag:noindex
X-PUBLISHED-TTL:PT1H
BEGIN:VTIMEZONE
TZID:America/Detroit
BEGIN:DAYLIGHT
TZOFFSETFROM:-0500
TZOFFSETTO:-0400
TZNAME:EDT
DTSTART:20250309T070000
END:DAYLIGHT
BEGIN:STANDARD
TZOFFSETFROM:-0400
TZOFFSETTO:-0500
TZNAME:EST
DTSTART:20251102T060000
END:STANDARD
BEGIN:DAYLIGHT
TZOFFSETFROM:-0500
TZOFFSETTO:-0400
TZNAME:EDT
DTSTART:20260308T070000
END:DAYLIGHT
BEGIN:STANDARD
TZOFFSETFROM:-0400
TZOFFSETTO:-0500
TZNAME:EST
DTSTART:20261101T060000
END:STANDARD
BEGIN:DAYLIGHT
TZOFFSETFROM:-0500
TZOFFSETTO:-0400
TZNAME:EDT
DTSTART:20270314T070000
END:DAYLIGHT
BEGIN:STANDARD
TZOFFSETFROM:-0400
TZOFFSETTO:-0500
TZNAME:EST
DTSTART:20271107T060000
END:STANDARD
END:VTIMEZONE
BEGIN:VEVENT
DTSTART;VALUE=DATE:20260516
DTEND;VALUE=DATE:20260518
DTSTAMP:20260422T084219
CREATED:20260105T223553Z
LAST-MODIFIED:20260105T223553Z
UID:1080-1778889600-1779062399@raceohiomx.com
SUMMARY:mx2026
DESCRIPTION:
URL:https://raceohiomx.com/event/mx2026-3/
LOCATION:East Fork MX\, 201 Laymon Rd\, New Vienna\, OH\, 45159\, United States
ATTACH;FMTTYPE=image/png:https://raceohiomx.com/wp-content/uploads/eastfork.png
END:VEVENT
BEGIN:VEVENT
DTSTART;VALUE=DATE:20260523
DTEND;VALUE=DATE:20260525
DTSTAMP:20260422T084219
CREATED:20260105T223723Z
LAST-MODIFIED:20260105T224216Z
UID:1083-1779494400-1779667199@raceohiomx.com
SUMMARY:mx2026
DESCRIPTION:
URL:https://raceohiomx.com/event/mx2026-4/
LOCATION:Mansfield Speedway\, 400 Crall Rd E\, Mansfield\, OH\, 44903\, United States
ATTACH;FMTTYPE=image/png:https://raceohiomx.com/wp-content/uploads/mansfield-mx-e1767652764344.png
END:VEVENT
BEGIN:VEVENT
DTSTART;VALUE=DATE:20260613
DTEND;VALUE=DATE:20260615
DTSTAMP:20260422T084219
CREATED:20260105T224325Z
LAST-MODIFIED:20260105T224325Z
UID:1087-1781308800-1781481599@raceohiomx.com
SUMMARY:mx2026
DESCRIPTION:
URL:https://raceohiomx.com/event/mx2026-5/
LOCATION:Route 62 MX\, 2825 Millersburg Rd\, Martinsburg\, OH\, 43037\, United States
ATTACH;FMTTYPE=image/png:https://raceohiomx.com/wp-content/uploads/rt62.png
END:VEVENT
BEGIN:VEVENT
DTSTART;VALUE=DATE:20260627
DTEND;VALUE=DATE:20260629
DTSTAMP:20260422T084219
CREATED:20260105T224751Z
LAST-MODIFIED:20260105T224824Z
UID:1092-1782518400-1782691199@raceohiomx.com
SUMMARY:mx2026
DESCRIPTION:
URL:https://raceohiomx.com/event/mx2026-6/
LOCATION:Delta MX\, 8571 Co. Rd. 7-2\, Delta\, OH\, 43515\, United States
ATTACH;FMTTYPE=image/jpeg:https://raceohiomx.com/wp-content/uploads/delta-logo-jpg.jpg
END:VEVENT
BEGIN:VEVENT
DTSTART;VALUE=DATE:20260709
DTEND;VALUE=DATE:20260713
DTSTAMP:20260422T084219
CREATED:20260105T224925Z
LAST-MODIFIED:20260105T224925Z
UID:1094-1783555200-1783900799@raceohiomx.com
SUMMARY:mx2026
DESCRIPTION:
URL:https://raceohiomx.com/event/mx2026-7/
LOCATION:Chillitown MX\, 344 Fairgrounds Road\, Chillicothe\, OH\, 45601\, United States
ATTACH;FMTTYPE=image/png:https://raceohiomx.com/wp-content/uploads/ctmxlogo3.png
END:VEVENT
BEGIN:VEVENT
DTSTART;VALUE=DATE:20260815
DTEND;VALUE=DATE:20260817
DTSTAMP:20260422T084219
CREATED:20260105T225034Z
LAST-MODIFIED:20260105T225034Z
UID:1096-1786752000-1786924799@raceohiomx.com
SUMMARY:mx2026
DESCRIPTION:
URL:https://raceohiomx.com/event/mx2026-8/
LOCATION:East Fork MX\, 201 Laymon Rd\, New Vienna\, OH\, 45159\, United States
ATTACH;FMTTYPE=image/png:https://raceohiomx.com/wp-content/uploads/eastfork.png
END:VEVENT
BEGIN:VEVENT
DTSTART;VALUE=DATE:20260822
DTEND;VALUE=DATE:20260824
DTSTAMP:20260422T084219
CREATED:20260105T225149Z
LAST-MODIFIED:20260105T225149Z
UID:1098-1787356800-1787529599@raceohiomx.com
SUMMARY:mx2026
DESCRIPTION:
URL:https://raceohiomx.com/event/mx2026-9/
LOCATION:Route 62 MX\, 2825 Millersburg Rd\, Martinsburg\, OH\, 43037\, United States
ATTACH;FMTTYPE=image/png:https://raceohiomx.com/wp-content/uploads/rt62.png
END:VEVENT
BEGIN:VEVENT
DTSTART;VALUE=DATE:20260905
DTEND;VALUE=DATE:20260907
DTSTAMP:20260422T084219
CREATED:20260105T225222Z
LAST-MODIFIED:20260227T014154Z
UID:1100-1788566400-1788739199@raceohiomx.com
SUMMARY:mx2026
DESCRIPTION:
URL:https://raceohiomx.com/event/mx2026-10/
LOCATION:Chillitown MX\, 344 Fairgrounds Road\, Chillicothe\, OH\, 45601\, United States
ATTACH;FMTTYPE=image/png:https://raceohiomx.com/wp-content/uploads/ctmxlogo3.png
END:VEVENT
BEGIN:VEVENT
DTSTART;VALUE=DATE:20260926
DTEND;VALUE=DATE:20260928
DTSTAMP:20260422T084219
CREATED:20260105T225321Z
LAST-MODIFIED:20260227T014252Z
UID:1102-1790380800-1790553599@raceohiomx.com
SUMMARY:mx2026
DESCRIPTION:
URL:https://raceohiomx.com/event/mx2026-11/
LOCATION:OH
END:VEVENT
BEGIN:VEVENT
DTSTART;VALUE=DATE:20261003
DTEND;VALUE=DATE:20261005
DTSTAMP:20260422T084219
CREATED:20260105T225410Z
LAST-MODIFIED:20260105T225410Z
UID:1104-1790985600-1791158399@raceohiomx.com
SUMMARY:mx2026
DESCRIPTION:
URL:https://raceohiomx.com/event/mx2026-12/
LOCATION:COCR\, 9171 Buckeye Troxel Road\, Sugar Grove\, OH\, 43155\, United States
ATTACH;FMTTYPE=image/jpeg:https://raceohiomx.com/wp-content/uploads/cocr-e1750139957197.jpg
END:VEVENT
BEGIN:VEVENT
DTSTART;VALUE=DATE:20261010
DTEND;VALUE=DATE:20261012
DTSTAMP:20260422T084219
CREATED:20260105T225445Z
LAST-MODIFIED:20260105T225445Z
UID:1106-1791590400-1791763199@raceohiomx.com
SUMMARY:mx2026
DESCRIPTION:
URL:https://raceohiomx.com/event/mx2026-13/
LOCATION:East Fork MX\, 201 Laymon Rd\, New Vienna\, OH\, 45159\, United States
ATTACH;FMTTYPE=image/png:https://raceohiomx.com/wp-content/uploads/eastfork.png
END:VEVENT
BEGIN:VEVENT
DTSTART;VALUE=DATE:20261017
DTEND;VALUE=DATE:20261019
DTSTAMP:20260422T084219
CREATED:20260105T225531Z
LAST-MODIFIED:20260105T225531Z
UID:1108-1792195200-1792367999@raceohiomx.com
SUMMARY:mx2026
DESCRIPTION:
URL:https://raceohiomx.com/event/mx2026-14/
LOCATION:Chillitown MX\, 344 Fairgrounds Road\, Chillicothe\, OH\, 45601\, United States
ATTACH;FMTTYPE=image/png:https://raceohiomx.com/wp-content/uploads/ctmxlogo3.png
END:VEVENT
BEGIN:VEVENT
DTSTART;VALUE=DATE:20261031
DTEND;VALUE=DATE:20261102
DTSTAMP:20260422T084219
CREATED:20260105T225617Z
LAST-MODIFIED:20260105T225617Z
UID:1111-1793404800-1793577599@raceohiomx.com
SUMMARY:mx2026
DESCRIPTION:
URL:https://raceohiomx.com/event/mx2026-15/
LOCATION:East Fork MX\, 201 Laymon Rd\, New Vienna\, OH\, 45159\, United States
ATTACH;FMTTYPE=image/png:https://raceohiomx.com/wp-content/uploads/eastfork.png
END:VEVENT
END:VCALENDAR